BEGIN:VCALENDAR
VERSION:2.0
PRODID:St John's College
BEGIN:VEVENT
UID:69e7a273aa3f5
DTSTART;TZID=Europe/London:20260712T140000
SEQUENCE:0
TRANSP:OPAQUE
DTEND;TZID=Europe/London:20260712T170000
SUMMARY:Sunday on the Backs 2026
CLASS:PUBLIC
DTSTAMP:20260421T161443Z
END:VEVENT
END:VCALENDAR